BEGIN:VCALENDAR
VERSION:2.0
PRODID:-//Squarespace Inc/Squarespace 6//v6//EN
BEGIN:VEVENT
UID:5ab9e94d1ae6cf97f560cb1c@squarespace.com
DTSTAMP:20181022T235535Z
DTSTART:20181007T220000Z
DTEND:20181208T060000Z
SUMMARY:TERM 4
END:VEVENT
END:VCALENDAR
