BEGIN:VCALENDAR
VERSION:2.0
PRODID:-//Squarespace Inc/Squarespace 6//v6//EN
BEGIN:VEVENT
UID:5a909368652dea92f97936b1@squarespace.com
DTSTAMP:20180224T030036Z
DTSTART:20181013T060000Z
DTEND:20181013T120000Z
SUMMARY:CENTRESTAGE SINGING CABARETS 5pm and 8pm
GEO:-37.770728;144.98055
LOCATION:Centrestage Performing Arts School\, 15 Albert Street\, Brunswick 
 East\, VIC\, 3057\, Australia
END:VEVENT
END:VCALENDAR
