BEGIN:VCALENDAR
VERSION:2.0
PRODID:-//Squarespace Inc/Squarespace 6//v6//EN
BEGIN:VEVENT
UID:58bcefb63e00be6887e1e1ab@squarespace.com
DTSTAMP:20170719T075943Z
DTSTART:20170902T190000Z
DTEND:20170902T220000Z
SUMMARY:Cabaret Auditions with Leanne and Ian White  
END:VEVENT
END:VCALENDAR
