BEGIN:VCALENDAR
VERSION:2.0
PRODID:-//Squarespace Inc/Squarespace 6//v6//EN
BEGIN:VEVENT
UID:587d8c141b631be781c786dd@squarespace.com
DTSTAMP:20170117T033927Z
DTSTART:20170204T140000Z
DTEND:20170401T210000Z
SUMMARY:Term 1 Classes 2017
END:VEVENT
END:VCALENDAR
