BEGIN:VCALENDAR
VERSION:2.0
PRODID:-//Squarespace Inc/Squarespace 6//v6//EN
BEGIN:VEVENT
UID:59f28db76c3194b973e46850@squarespace.com
DTSTAMP:20171027T014609Z
DTSTART:20171209T140000Z
DTEND:20171210T230000Z
SUMMARY:Last Day at Centrestage Classes/Party/Enrolment Day
END:VEVENT
END:VCALENDAR
