BEGIN:VCALENDAR
VERSION:2.0
PRODID:-//Squarespace Inc/Squarespace 6//v6//EN
BEGIN:VEVENT
UID:58aa2fe3bebafb33788acfe8@squarespace.com
DTSTAMP:20171027T010630Z
DTSTART:20171109T220000Z
DTEND:20171110T030000Z
SUMMARY:End of Year NOW Concerts 2017
END:VEVENT
END:VCALENDAR
