BEGIN:VCALENDAR
VERSION:2.0
PRODID:-//Squarespace Inc/Squarespace 6//v6//EN
BEGIN:VEVENT
UID:58aa2f9f15d5db737e628fea@squarespace.com
DTSTAMP:20171027T010552Z
DTSTART:20171109T000000Z
DTEND:20171109T020000Z
SUMMARY:End of Year NOW Concerts 2017
END:VEVENT
END:VCALENDAR
