BEGIN:VCALENDAR
VERSION:2.0
PRODID:-//Squarespace Inc/Squarespace 6//v6//EN
BEGIN:VEVENT
UID:58aa2f1fd1758e84118560d4@squarespace.com
DTSTAMP:20171027T010452Z
DTSTART:20171108T000000Z
DTEND:20171108T010000Z
SUMMARY:End of Year Concerts NOW 2017 - REHEARSAL ONLY
END:VEVENT
END:VCALENDAR
