BEGIN:VCALENDAR
VERSION:2.0
PRODID:-//Squarespace Inc/Squarespace 6//v6//EN
BEGIN:VEVENT
UID:58aa2eb9579fb32b00ff5b7c@squarespace.com
DTSTAMP:20170719T080320Z
DTSTART:20171104T120000Z
DTEND:20171106T220000Z
SUMMARY:Classes as usual at Centrestage Studios
END:VEVENT
END:VCALENDAR
