BEGIN:VCALENDAR
VERSION:2.0
PRODID:-//Squarespace Inc/Squarespace 6//v6//EN
BEGIN:VEVENT
UID:58bcfd2df5e231916598810a@squarespace.com
DTSTAMP:20170920T064225Z
DTSTART:20171123T180000Z
DTEND:20171124T033000Z
SUMMARY:Drama Spotlight  CONNECT - Rehearsal & Performance #1 at Banyule Th
 eatre Heidelberg 
END:VEVENT
END:VCALENDAR
