BEGIN:VCALENDAR
VERSION:2.0
PRODID:-//Squarespace Inc/Squarespace 6//v6//EN
BEGIN:VEVENT
UID:598acf7ebf629a21080dd960@squarespace.com
DTSTAMP:20170920T063653Z
DTSTART:20171124T210000Z
DTEND:20171125T033000Z
SUMMARY:Drama Spotlight CONNECT Performance #2 at Banyule Theatre Heidelber
 g 
END:VEVENT
END:VCALENDAR
