BEGIN:VCALENDAR
VERSION:2.0
PRODID:-//Squarespace Inc/Squarespace 6//v6//EN
BEGIN:VEVENT
UID:59f2837b109526b62a5d972e@squarespace.com
DTSTAMP:20171027T010146Z
DTSTART:20171113T020000Z
DTEND:20171113T030000Z
SUMMARY:CONNECT DRAMA rehearsals at Centrestage
END:VEVENT
END:VCALENDAR
