BEGIN:VCALENDAR
VERSION:2.0
PRODID:-//Squarespace Inc/Squarespace 6//v6//EN
BEGIN:VEVENT
UID:587d8ffe4402432706cd8e3a@squarespace.com
DTSTAMP:20170920T043458Z
DTSTART:20171009T190300Z
DTEND:20171209T210300Z
SUMMARY:Term 4 Classes 2017 
END:VEVENT
END:VCALENDAR
