BEGIN:VCALENDAR
VERSION:2.0
PRODID:-//Squarespace Inc/Squarespace 6//v6//EN
BEGIN:VEVENT
UID:58bcf34486e6c0c5a71434c7@squarespace.com
DTSTAMP:20170920T065946Z
DTSTART:20171014T193000Z
DTEND:20171015T033000Z
SUMMARY:Centrestage Cabarets 2017 5pm and 8pm 
END:VEVENT
END:VCALENDAR
