BEGIN:VCALENDAR
VERSION:2.0
PRODID:-//Squarespace Inc/Squarespace 6//v6//EN
BEGIN:VEVENT
UID:587d8d3bcd0f68450bf28cbc@squarespace.com
DTSTAMP:20170117T034357Z
DTSTART:20170418T193000Z
DTEND:20170701T203000Z
SUMMARY:Term 2 Classes 2017  
END:VEVENT
END:VCALENDAR
