BEGIN:VCALENDAR
VERSION:2.0
PRODID:-//Squarespace Inc/Squarespace 6//v6//EN
BEGIN:VEVENT
UID:57a3f7d315d5db0bee11c9af@squarespace.com
DTSTAMP:20160805T031727Z
DTSTART:20160903T193000Z
DTEND:20160903T210000Z
SUMMARY:Centrestage Cabaret Auditions
GEO:-37.770728;144.98055
LOCATION:Centrestage Performing Arts School\, 15 Albert Street\, Brunswick 
 East\, VIC\, 3057\, Australia
END:VEVENT
END:VCALENDAR
