BEGIN:VCALENDAR
VERSION:2.0
PRODID:-//Squarespace Inc/Squarespace 6//v6//EN
BEGIN:VEVENT
UID:57a3f82315d5db0bee11cc6e@squarespace.com
DTSTAMP:20160805T033238Z
DTSTART:20160910T230000Z
DTEND:20160911T000000Z
SUMMARY:Bully Zero Charity Ball
END:VEVENT
END:VCALENDAR
