BEGIN:VCALENDAR
VERSION:2.0
PRODID:-//Squarespace Inc/Squarespace 6//v6//EN
BEGIN:VEVENT
UID:57314917c2ea515cf2c2dec6@squarespace.com
DTSTAMP:20160511T042747Z
DTSTART:20160603T233000Z
DTEND:20160604T010000Z
SUMMARY:Theatrica New York trip meeting
END:VEVENT
END:VCALENDAR
