BEGIN:VCALENDAR
VERSION:2.0
PRODID:-//Squarespace Inc/Squarespace 6//v6//EN
BEGIN:VEVENT
UID:573149e020c6478f4961100a@squarespace.com
DTSTAMP:20160510T023945Z
DTSTART:20160627T030000Z
DTEND:20160708T040000Z
SUMMARY:Biennial Trip to New York and Los Angeles for Centrestage and Strat
 hmore Secondary school students
END:VEVENT
END:VCALENDAR
