BEGIN:VCALENDAR
VERSION:2.0
PRODID:-//Squarespace Inc/Squarespace 6//v6//EN
BEGIN:VEVENT
UID:573149742fe131e30c441787@squarespace.com
DTSTAMP:20160510T041038Z
DTSTART:20160618T030000Z
DTEND:20160618T040000Z
SUMMARY:Bully Prevention Program. 6.30pm – 8.00pm at Centrestage studios. B
 ookings essential
GEO:-37.770708;144.980662
LOCATION:Centrestage Performing Arts School\, 15 Albert Street\, Brunswick 
 East\, VIC\, 3057\, Australia
END:VEVENT
END:VCALENDAR
