BEGIN:VCALENDAR
VERSION:2.0
PRODID:-//Squarespace Inc/Squarespace 6//v6//EN
BEGIN:VEVENT
UID:573149532fe131e30c441688@squarespace.com
DTSTAMP:20160510T023725Z
DTSTART:20160614T030000Z
DTEND:20160614T040000Z
SUMMARY:Queen’s Birthday
END:VEVENT
END:VCALENDAR
