BEGIN:VCALENDAR
VERSION:2.0
PRODID:-//Squarespace Inc/Squarespace 6//v6//EN
BEGIN:VEVENT
UID:56c64064c2ea51dc7a21ca56@squarespace.com
DTSTAMP:20160218T221121Z
DTSTART:20160201T130000Z
DTEND:20160324T210000Z
SUMMARY:Term 1
END:VEVENT
END:VCALENDAR
