BEGIN:VCALENDAR
VERSION:2.0
PRODID:-//Squarespace Inc/Squarespace 6//v6//EN
BEGIN:VEVENT
UID:583bc0659de4bb04c564a768@squarespace.com
DTSTAMP:20161128T053556Z
DTSTART:20161213T220000Z
DTEND:20161213T230000Z
SUMMARY:The Sugar Talk for Centrestage Showcase Dancers
END:VEVENT
END:VCALENDAR
