BEGIN:VCALENDAR
VERSION:2.0
PRODID:-//Squarespace Inc/Squarespace 6//v6//EN
BEGIN:VEVENT
UID:581090b89f74561bfcd52661@squarespace.com
DTSTAMP:20161026T114513Z
DTSTART:20161210T150000Z
DTEND:20161210T200000Z
SUMMARY:Enrolment Day for 2017 and Christmas Party
END:VEVENT
END:VCALENDAR
