BEGIN:VCALENDAR
VERSION:2.0
PRODID:-//Squarespace Inc/Squarespace 6//v6//EN
BEGIN:VEVENT
UID:58104c73e4fcb54017f9e4bd@squarespace.com
DTSTAMP:20161026T075935Z
DTSTART:20161105T130000Z
DTEND:20161106T220000Z
SUMMARY:End Of Year Concert Tickets on Sale 
END:VEVENT
END:VCALENDAR
