BEGIN:VCALENDAR
VERSION:2.0
PRODID:-//Squarespace Inc/Squarespace 6//v6//EN
BEGIN:VEVENT
UID:57314a058a65e244fd52fc9c@squarespace.com
DTSTAMP:20161026T114158Z
DTSTART:20161130T210000Z
DTEND:20161201T040000Z
SUMMARY:Centrestage End Of Year Concert at Aitkin College Tech Rehearsal
END:VEVENT
END:VCALENDAR
