BEGIN:VCALENDAR
VERSION:2.0
PRODID:-//Squarespace Inc/Squarespace 6//v6//EN
BEGIN:VEVENT
UID:57a3f8f3bebafbf8cf5972eb@squarespace.com
DTSTAMP:20161026T113926Z
DTSTART:20161126T153000Z
DTEND:20161126T210000Z
SUMMARY:  Saturday 26th November – Concert Rehearsal Twenty6 It's Amusical 
END:VEVENT
END:VCALENDAR
