BEGIN:VCALENDAR
VERSION:2.0
PRODID:-//Squarespace Inc/Squarespace 6//v6//EN
BEGIN:VEVENT
UID:57b66ca3b8a79bba77149352@squarespace.com
DTSTAMP:20161026T062533Z
DTSTART:20161111T210000Z
DTEND:20161112T030000Z
SUMMARY:Drama Performance Bump in & Rehearsals
END:VEVENT
END:VCALENDAR
