BEGIN:VCALENDAR
VERSION:2.0
PRODID:-//Squarespace Inc/Squarespace 6//v6//EN
BEGIN:VEVENT
UID:57a3f85e197aeab65e3d1b1b@squarespace.com
DTSTAMP:20160912T065750Z
DTSTART:20161015T200000Z
DTEND:20161016T023000Z
SUMMARY:Centrestage Cabaret 2016
END:VEVENT
END:VCALENDAR
